BEGIN:VCALENDAR
VERSION:2.0
PRODID:spatie/icalendar-generator
DESCRIPTION:Events from Wilberforce Curling Club
X-WR-CALDESC:Events from Wilberforce Curling Club
REFRESH-INTERVAL;VALUE=DURATION:PT1440M
X-PUBLISHED-TTL:PT1440M
BEGIN:VTIMEZONE
TZID:America/Toronto
BEGIN:DAYLIGHT
DTSTART:20240310T020000Z
TZOFFSETFROM:-0500
TZOFFSETTO:-0400
END:DAYLIGHT
BEGIN:STANDARD
DTSTART:20241103T020000Z
TZOFFSETFROM:-0400
TZOFFSETTO:-0500
END:STANDARD
BEGIN:DAYLIGHT
DTSTART:20250309T020000Z
TZOFFSETFROM:-0500
TZOFFSETTO:-0400
END:DAYLIGHT
END:VTIMEZONE
BEGIN:VTIMEZONE
TZID:UTC
BEGIN:STANDARD
DTSTART:20250725T091527Z
TZOFFSETFROM:+0000
TZOFFSETTO:+0000
END:STANDARD
END:VTIMEZONE
BEGIN:VEVENT
UID:1-1
DTSTAMP:20260421T091527Z
SUMMARY:Demo: Florence Price: Symphony No. 3 in c minor
LOCATION:
ORGANIZER;CN=Kevin:MAILTO:kevin@technicalities.ca
DTSTART;TZID=America/Toronto:20241010T193000
DTEND;TZID=America/Toronto:20241010T210000
X-ALT-DESC;FMTTYPE=TEXT/HTML:<p>Florence Price's Symphony No.3 was first pe
 rformed on November 6th\, 1940. It was Ms. Price's third symphony\, follow
 ing her lost Symphony No. 2</p>\n
CATEGORIES:General
URL;VALUE=URI:https://www.wilberforcecurling.com/mc-events/demo-florence-pr
 ice-symphony-no-3-in-c-minor/
METHOD:PUBLISH
END:VEVENT
END:VCALENDAR